BEGIN:VCALENDAR
VERSION:2.0
PRODID:SchoolNow
CALSCALE:GREGORIAN
BEGIN:VEVENT
UID:40f44bbe-2fd5-11f1-a3c5-0affe5bf6267
DTSTAMP:20260421T090046Z
SUMMARY:Vaccine Clinic @ WN
URL;VALUE=URI:https://www.decaturproud.org/west-newton/calendar/8969212/vac
 cine-clinic-wn
DTSTART;VALUE=DATE:20260909
DTEND;VALUE=DATE:20260910
END:VEVENT
END:VCALENDAR
