BEGIN:VCALENDAR
VERSION:2.0
PRODID:SchoolNow
CALSCALE:GREGORIAN
BEGIN:VEVENT
UID:f9d7419a-8dcd-11f0-9ed0-0a58a9feac02
DTSTAMP:20260421T025537Z
SUMMARY:Dance with Someone You Love
URL;VALUE=URI:https://www.decaturproud.org/west-newton/calendar/8602479/dan
 ce-with-someone-you-love
DTSTART:20260212T223000Z
DTEND:20260213T003000Z
END:VEVENT
END:VCALENDAR
