BEGIN:VCALENDAR
VERSION:2.0
PRODID:SchoolNow
CALSCALE:GREGORIAN
BEGIN:VEVENT
UID:deeefe68-4250-11f0-9d17-0affde05aa2f
DTSTAMP:20260421T025537Z
SUMMARY:No School
URL;VALUE=URI:https://www.decaturproud.org/west-newton/calendar/8258553/no-
 school
DTSTART;VALUE=DATE:20260213
DTEND;VALUE=DATE:20260214
END:VEVENT
END:VCALENDAR
