BEGIN:VCALENDAR
VERSION:2.0
PRODID:SchoolNow
CALSCALE:GREGORIAN
BEGIN:VEVENT
UID:deeefd32-4250-11f0-b855-0affde05aa2f
DTSTAMP:20260421T025537Z
SUMMARY:No School
URL;VALUE=URI:https://www.decaturproud.org/west-newton/calendar/8258552/no-
 school
DTSTART;VALUE=DATE:20260216
DTEND;VALUE=DATE:20260217
END:VEVENT
END:VCALENDAR
