BEGIN:VCALENDAR
VERSION:2.0
PRODID:SchoolNow
CALSCALE:GREGORIAN
BEGIN:VEVENT
UID:be0da5a2-4461-11ef-9169-0a58a9feac02
DTSTAMP:20240717T172646Z
SUMMARY:Popsicles with the Principal
URL;VALUE=URI:https://www.decaturproud.org/stephen-decatur/calendar/6273844
 /popsicles-with-the-principal
DTSTART:20240719T200000Z
DTEND:20240719T220000Z
ATTACH;FILENAME=Popsicles with the New Principal Flyer.png;FMTTYPE=image/pn
 g:https://campussuite-storage.s3.amazonaws.com/prod/484008/2fabe5fc-59b7-1
 1e6-943a-22000bd8490f/2819548/a8f80612-4461-11ef-a6c3-0261e29961bf/file/Po
 psicles with the New Principal Flyer.png
END:VEVENT
END:VCALENDAR
