BEGIN:VCALENDAR
VERSION:2.0
PRODID:SchoolNow
CALSCALE:GREGORIAN
BEGIN:VEVENT
UID:ea2c7944-e3d2-11eb-bc9a-02463c07ad47
DTSTAMP:20210720T111006Z
SUMMARY:Martin Luther King Jr. Day 2022 (No School)
URL;VALUE=URI:https://www.decaturproud.org/gold-academy/calendar/2637915/ma
 rtin-luther-king-jr-day-no-school
DTSTART;VALUE=DATE:20220117
DTEND;VALUE=DATE:20220118
END:VEVENT
END:VCALENDAR
