BEGIN:VCALENDAR
VERSION:2.0
PRODID:SchoolNow
CALSCALE:GREGORIAN
BEGIN:VEVENT
UID:acf062b4-e3cf-11eb-a4ac-0208022715dd
DTSTAMP:20210720T110824Z
SUMMARY:1st Student Day 2021
URL;VALUE=URI:https://www.decaturproud.org/gold-academy/calendar/2637867/1s
 t-student-day
DTSTART;VALUE=DATE:20210802
DTEND;VALUE=DATE:20210803
END:VEVENT
END:VCALENDAR
