BEGIN:VCALENDAR
VERSION:2.0
PRODID:SchoolNow
CALSCALE:GREGORIAN
BEGIN:VEVENT
UID:c0e36b8a-1412-11ed-b30f-0ad527c3c977
DTSTAMP:20220804T163029Z
SUMMARY:Picture Day
URL;VALUE=URI:https://www.decaturproud.org/decatur-middle/calendar/3271344/
 picture-day
DTSTART;VALUE=DATE:20220810
DTEND;VALUE=DATE:20220811
END:VEVENT
END:VCALENDAR
