BEGIN:VCALENDAR
VERSION:2.0
PRODID:SchoolNow
CALSCALE:GREGORIAN
BEGIN:VEVENT
UID:29eed780-e3d2-11eb-ad05-02463c07ad47
DTSTAMP:20210720T110938Z
SUMMARY:Thanksgiving Recess 2021 (No School)
URL;VALUE=URI:https://www.decaturproud.org/decatur-middle/calendar/2637894/
 thanksgiving-recess-no-school
DTSTART;VALUE=DATE:20211124
DTEND;VALUE=DATE:20211127
END:VEVENT
END:VCALENDAR
