BEGIN:VCALENDAR
VERSION:2.0
PRODID:SchoolNow
CALSCALE:GREGORIAN
BEGIN:VEVENT
UID:f9283fce-e3d1-11eb-941f-02463c07ad47
DTSTAMP:20210720T110931Z
SUMMARY:eLearning Day 2021
URL;VALUE=URI:https://www.decaturproud.org/decatur-middle/calendar/2637889/
 elearning-day
DTSTART;VALUE=DATE:20211102
DTEND;VALUE=DATE:20211103
END:VEVENT
END:VCALENDAR
