BEGIN:VCALENDAR
VERSION:2.0
PRODID:SchoolNow
CALSCALE:GREGORIAN
BEGIN:VEVENT
UID:9915d132-e2d9-11ee-a14e-0efcf29d1ed1
DTSTAMP:20240315T143749Z
SUMMARY:Physical Night
LOCATION:DCHS Main Gym (Enter door 16)
URL;VALUE=URI:https://www.decaturproud.org/central-high/calendar/5551004/ph
 ysical-night
DTSTART:20240513T220000Z
DTEND:20240514T000000Z
ATTACH;FILENAME=2024 physical night.png;FMTTYPE=image/png:https://campussui
 te-storage.s3.amazonaws.com/prod/484008/2fabe5fc-59b7-11e6-943a-22000bd849
 0f/2758219/e751ad5e-e2d8-11ee-a2c6-0286f91c5f47/file/2024 physical night.p
 ng
END:VEVENT
END:VCALENDAR
