BEGIN:VCALENDAR
VERSION:2.0
PRODID:SchoolNow
CALSCALE:GREGORIAN
BEGIN:VEVENT
UID:efbef2e8-b084-11ee-98f9-0a58a9feac02
DTSTAMP:20240111T132549Z
SUMMARY:Snowcoming Basketball Games
LOCATION:Decatur Central HS Gym
URL;VALUE=URI:https://www.decaturproud.org/central-high/calendar/5139568/sn
 owcoming-basketball-games
DTSTART:20240119T220000Z
DTEND:20240120T030000Z
END:VEVENT
END:VCALENDAR
