BEGIN:VCALENDAR
VERSION:2.0
PRODID:SchoolNow
CALSCALE:GREGORIAN
BEGIN:VEVENT
UID:a93baf2a-9b5b-11ee-aa74-0a58a9feac02
DTSTAMP:20240111T130524Z
SUMMARY:Snowcoming Chili Supper
LOCATION:DCHS Gym Lobby
URL;VALUE=URI:https://www.decaturproud.org/central-high/calendar/5007057/sn
 owcoming-chili-supper
DTSTART:20240119T220000Z
DTEND:20240120T010000Z
END:VEVENT
END:VCALENDAR
