BEGIN:VCALENDAR
VERSION:2.0
PRODID:SchoolNow
CALSCALE:GREGORIAN
BEGIN:VEVENT
UID:00c50bfa-526a-11ee-a45b-02b38ad9ecb9
DTSTAMP:20230913T191612Z
SUMMARY:DCHS Homecoming Semi-Formal Dance
URL;VALUE=URI:https://www.decaturproud.org/central-high/calendar/4731647/dc
 hs-homecoming-semi-formal-dance
DTSTART:20230923T230000Z
DTEND:20230924T010000Z
END:VEVENT
END:VCALENDAR
