BEGIN:VCALENDAR
VERSION:2.0
PRODID:SchoolNow
CALSCALE:GREGORIAN
BEGIN:VEVENT
UID:8e3226e2-dabc-11ed-b42c-0ab5c21653cf
DTSTAMP:20230414T120449Z
SUMMARY:Agriscience Fair/Adopt a Rooster Event
URL;VALUE=URI:https://www.decaturproud.org/central-high/calendar/4047337/ag
 riscience-fair-adopt-a-rooster-event
DTSTART:20230516T220000Z
DTEND:20230516T230000Z
END:VEVENT
END:VCALENDAR
