BEGIN:VCALENDAR
VERSION:2.0
PRODID:SchoolNow
CALSCALE:GREGORIAN
BEGIN:VEVENT
UID:be0a8362-c8b2-11ed-a03e-0ec2bc7660b5
DTSTAMP:20230322T130913Z
SUMMARY:STEAM Fest
LOCATION:DELC Blue/Gold Academy (Enter door 14)
URL;VALUE=URI:https://www.decaturproud.org/central-high/calendar/3906171/st
 eam-fest
DTSTART:20230413T213000Z
DTEND:20230413T233000Z
END:VEVENT
END:VCALENDAR
