BEGIN:VCALENDAR
VERSION:2.0
PRODID:SchoolNow
CALSCALE:GREGORIAN
BEGIN:VEVENT
UID:8cbb9e9c-b6db-11ed-8ee6-0e52c6e916d5
DTSTAMP:20230227T201559Z
SUMMARY:DCHS Coffeehouse Auditions
LOCATION:Black Box Theater - DCHS
URL;VALUE=URI:https://www.decaturproud.org/central-high/calendar/3791611/dc
 hs-coffeehouse-auditions
DTSTART:20230301T210000Z
DTEND:20230301T230000Z
END:VEVENT
END:VCALENDAR
