BEGIN:VCALENDAR
VERSION:2.0
PRODID:SchoolNow
CALSCALE:GREGORIAN
BEGIN:VEVENT
UID:c73ba98c-b6da-11ed-9a76-0e52c6e916d5
DTSTAMP:20230227T201028Z
SUMMARY:DCHS Cheerleading Call Out Meeting
LOCATION:DCHS main gym - BALCONY
URL;VALUE=URI:https://www.decaturproud.org/central-high/calendar/3791609/dc
 hs-cheerleading-call-out-meeting
DTSTART:20230302T210000Z
DTEND:20230302T213500Z
END:VEVENT
END:VCALENDAR
