BEGIN:VCALENDAR
VERSION:2.0
PRODID:SchoolNow
CALSCALE:GREGORIAN
BEGIN:VEVENT
UID:54746106-a964-11ed-9ff7-02f00a94f8b9
DTSTAMP:20230210T165949Z
SUMMARY:PROM 2023
LOCATION:Indianapolis Zoo
URL;VALUE=URI:https://www.decaturproud.org/central-high/calendar/3734091/pr
 om-2023
DTSTART:20230520T233000Z
DTEND:20230521T023000Z
END:VEVENT
END:VCALENDAR
