BEGIN:VCALENDAR
VERSION:2.0
PRODID:SchoolNow
CALSCALE:GREGORIAN
BEGIN:VEVENT
UID:9ba0dbb4-bd9c-11eb-bb7b-0e6ff1840f29
DTSTAMP:20210622T131046Z
SUMMARY:Freshmen Orientation
URL;VALUE=URI:https://www.decaturproud.org/central-high/calendar/2605690/fr
 eshmen-orientation
DTSTART:20210723T120000Z
DTEND:20210723T160000Z
END:VEVENT
END:VCALENDAR
