BEGIN:VCALENDAR
VERSION:2.0
PRODID:SchoolNow
CALSCALE:GREGORIAN
BEGIN:VEVENT
UID:db98747c-af6c-11eb-9143-0e5240911acb
DTSTAMP:20230523T154614Z
SUMMARY:Graduation Class of 2023
LOCATION:Indianapolis Convention Center
URL;VALUE=URI:https://www.decaturproud.org/central-high/calendar/2595794/gr
 aduation
DTSTART:20230525T230000Z
DTEND:20230526T003000Z
END:VEVENT
END:VCALENDAR
