BEGIN:VCALENDAR
VERSION:2.0
PRODID:SchoolNow
CALSCALE:GREGORIAN
BEGIN:VEVENT
UID:32cb66fe-773a-11e9-a937-127156400d94
DTSTAMP:20190515T175225Z
SUMMARY:Job Fair - STAFFMARK
DESCRIPTION:See informational flyer about specific times.
LOCATION:2014 Stafford Road\, Plainfield\, IN 46168
URL;VALUE=URI:https://www.decaturproud.org/central-high/calendar/1985891/jo
 b-fair-staffmark
DTSTART:20190522T140000Z
DTEND:20190522T230000Z
END:VEVENT
END:VCALENDAR
