BEGIN:VCALENDAR
VERSION:2.0
PRODID:SchoolNow
CALSCALE:GREGORIAN
BEGIN:VEVENT
UID:546cf976-4bde-11e9-87e8-0a18b9ca8702
DTSTAMP:20190321T133628Z
SUMMARY:DCHS Cheer Workshops and Tryouts
DESCRIPTION:See information regarding the workshops and tryout times.
LOCATION:DC
URL;VALUE=URI:https://www.decaturproud.org/central-high/calendar/1958227/dc
 hs-cheer-workshops-and-tryouts
DTSTART:20190409T220000Z
DTEND:20190413T000000Z
END:VEVENT
END:VCALENDAR
