BEGIN:VCALENDAR
VERSION:2.0
PRODID:SchoolNow
CALSCALE:GREGORIAN
BEGIN:VEVENT
UID:1319b150-d353-11ef-b769-0e0fc38d3f23
DTSTAMP:20250703T171952Z
SUMMARY:Regular Meeting 7:00 PM/Executive Session 5:30 PM
URL;VALUE=URI:https://www.decaturproud.org/boe/calendar/7319738/regular-mee
 ting-7-00-pm
DTSTART:20250708T230000Z
DTEND:20250709T000000Z
END:VEVENT
END:VCALENDAR
