BEGIN:VCALENDAR
VERSION:2.0
PRODID:SchoolNow
CALSCALE:GREGORIAN
BEGIN:VEVENT
UID:ef875d50-da2e-11ee-9818-0e3d79336bad
DTSTAMP:20240304T135601Z
SUMMARY:Executive Session 6:00 PM
URL;VALUE=URI:https://www.decaturproud.org/boe/calendar/5461269/executive-s
 ession-6-00-pm
DTSTART:20240306T230000Z
DTEND:20240307T020000Z
END:VEVENT
END:VCALENDAR
