BEGIN:VCALENDAR
VERSION:2.0
PRODID:SchoolNow
CALSCALE:GREGORIAN
BEGIN:VEVENT
UID:8185e3bc-d259-11ee-a3d3-021865effe9f
DTSTAMP:20240223T144036Z
SUMMARY:Executive Session 5:00 PM
URL;VALUE=URI:https://www.decaturproud.org/boe/calendar/5388029/executive-s
 ession-5-00-pm
DTSTART:20240227T220000Z
DTEND:20240228T020000Z
END:VEVENT
END:VCALENDAR
