BEGIN:VCALENDAR
VERSION:2.0
PRODID:SchoolNow
CALSCALE:GREGORIAN
BEGIN:VEVENT
UID:c2820ffe-d186-11ee-946b-0a58a9feac02
DTSTAMP:20240222T174906Z
SUMMARY:Executive Session 5:00 PM
URL;VALUE=URI:https://www.decaturproud.org/boe/calendar/5381441/executive-s
 ession-5-30-pm
DTSTART:20240226T220000Z
DTEND:20240227T020000Z
END:VEVENT
END:VCALENDAR
