BEGIN:VCALENDAR
VERSION:2.0
PRODID:SchoolNow
CALSCALE:GREGORIAN
BEGIN:VEVENT
UID:b930028a-d0dc-11ee-b448-0eb6636e8489
DTSTAMP:20240222T132533Z
SUMMARY:Executive Session 1:00 PM
URL;VALUE=URI:https://www.decaturproud.org/boe/calendar/5375089/executive-s
 ession-1-00-pm
DTSTART:20240225T180000Z
DTEND:20240225T200000Z
END:VEVENT
END:VCALENDAR
