BEGIN:VCALENDAR
VERSION:2.0
PRODID:SchoolNow
CALSCALE:GREGORIAN
BEGIN:VEVENT
UID:28f07e00-d007-11ee-a84e-0a58a9feac02
DTSTAMP:20240220T154606Z
SUMMARY:Executive Session 5:00 PM
URL;VALUE=URI:https://www.decaturproud.org/boe/calendar/5366807/executive-s
 ession-5-00-pm
DTSTART:20240222T220000Z
DTEND:20240223T020000Z
END:VEVENT
END:VCALENDAR
