BEGIN:VCALENDAR
VERSION:2.0
PRODID:SchoolNow
CALSCALE:GREGORIAN
BEGIN:VEVENT
UID:e99556f2-cc11-11ee-a65d-02e1d5ab6bf3
DTSTAMP:20240215T145300Z
SUMMARY:Executive Session 5:30 PM
URL;VALUE=URI:https://www.decaturproud.org/boe/calendar/5333598/executive-s
 ession-5-30-pm
DTSTART:20240220T223000Z
DTEND:20240221T033000Z
END:VEVENT
END:VCALENDAR
