BEGIN:VCALENDAR
VERSION:2.0
PRODID:SchoolNow
CALSCALE:GREGORIAN
BEGIN:VEVENT
UID:8ca304de-ca78-11ee-af38-0a58a9feac02
DTSTAMP:20240213T140239Z
SUMMARY:Executive Session 5:00 PM
URL;VALUE=URI:https://www.decaturproud.org/boe/calendar/5319628/executive-s
 ession-5-00-pm
DTSTART:20240215T220000Z
DTEND:20240216T030000Z
END:VEVENT
END:VCALENDAR
