BEGIN:VCALENDAR
VERSION:2.0
PRODID:SchoolNow
CALSCALE:GREGORIAN
BEGIN:VEVENT
UID:46248c2a-bc69-11ee-9ede-02e21b8f49ff
DTSTAMP:20240126T163802Z
SUMMARY:Executive Session 5:00 PM
URL;VALUE=URI:https://www.decaturproud.org/boe/calendar/5212606/executive-s
 ession-5-00-pm
DTSTART:20240130T220000Z
DTEND:20240131T030000Z
END:VEVENT
END:VCALENDAR
