BEGIN:VCALENDAR
VERSION:2.0
PRODID:SchoolNow
CALSCALE:GREGORIAN
BEGIN:VEVENT
UID:ebabe9ba-bb95-11ee-847b-023800c348cf
DTSTAMP:20240125T152507Z
SUMMARY:Executive Session 5:00 PM
URL;VALUE=URI:https://www.decaturproud.org/boe/calendar/5206838/executive-s
 ession-5-00-pm
DTSTART:20240129T220000Z
DTEND:20240130T030000Z
END:VEVENT
END:VCALENDAR
