BEGIN:VCALENDAR
VERSION:2.0
PRODID:SchoolNow
CALSCALE:GREGORIAN
BEGIN:VEVENT
UID:836fc664-b54b-11ee-9e89-0a58a9feac02
DTSTAMP:20240117T151722Z
SUMMARY:Executive Session 2:00 PM
URL;VALUE=URI:https://www.decaturproud.org/boe/calendar/5168623/executive-s
 ession-2-00-pm
DTSTART:20240122T190000Z
DTEND:20240122T220000Z
END:VEVENT
END:VCALENDAR
