BEGIN:VCALENDAR
VERSION:2.0
PRODID:SchoolNow
CALSCALE:GREGORIAN
BEGIN:VEVENT
UID:0bde04a6-afe4-11ee-acb4-0a58a9feac02
DTSTAMP:20240209T161238Z
SUMMARY:Regular Meeting 7:00 PM/Executive Session 5:30 PM
URL;VALUE=URI:https://www.decaturproud.org/boe/calendar/5135699/regular-mee
 ting-7-00-pm
DTSTART:20240214T000000Z
DTEND:20240214T010000Z
END:VEVENT
END:VCALENDAR
