BEGIN:VCALENDAR
VERSION:2.0
PRODID:SchoolNow
CALSCALE:GREGORIAN
BEGIN:VEVENT
UID:e2ad90a8-abfe-11ee-b73b-0a58a9feac02
DTSTAMP:20240105T191610Z
SUMMARY:Board of Finance Meeting
URL;VALUE=URI:https://www.decaturproud.org/boe/calendar/5109352/board-of-fi
 nance-meeting
DTSTART:20240110T011500Z
DTEND:20240110T014500Z
END:VEVENT
END:VCALENDAR
