BEGIN:VCALENDAR
VERSION:2.0
PRODID:SchoolNow
CALSCALE:GREGORIAN
BEGIN:VEVENT
UID:02df1196-939d-11ee-9290-0a58a9feac02
DTSTAMP:20231205T183730Z
SUMMARY:Executive Session 5:30 PM
URL;VALUE=URI:https://www.decaturproud.org/boe/calendar/4983809/executive-s
 ession
DTSTART:20231207T223000Z
DTEND:20231208T003000Z
END:VEVENT
END:VCALENDAR
