BEGIN:VCALENDAR
VERSION:2.0
PRODID:SchoolNow
CALSCALE:GREGORIAN
BEGIN:VEVENT
UID:8babc0ac-742e-11ee-bd84-0a58a9feac02
DTSTAMP:20231026T183615Z
SUMMARY:Tentative Agreement Meeting 8:00 AM
URL;VALUE=URI:https://www.decaturproud.org/boe/calendar/4903237/tentative-a
 greement-meeting-8-00-am
DTSTART:20231031T120000Z
DTEND:20231031T130000Z
END:VEVENT
END:VCALENDAR
