BEGIN:VCALENDAR
VERSION:2.0
PRODID:SchoolNow
CALSCALE:GREGORIAN
BEGIN:VEVENT
UID:34135264-36bd-11ee-af54-0a58a9feac02
DTSTAMP:20230921T191309Z
SUMMARY:Work Session 5:30 PM/Executive Session 7:00 PM
URL;VALUE=URI:https://www.decaturproud.org/boe/calendar/4560026/work-sessio
 n-5-30-pm
DTSTART:20230926T213000Z
DTEND:20230926T233000Z
END:VEVENT
END:VCALENDAR
