BEGIN:VCALENDAR
VERSION:2.0
PRODID:SchoolNow
CALSCALE:GREGORIAN
BEGIN:VEVENT
UID:7afbf0f4-1f58-11ee-8f0a-025370c22e91
DTSTAMP:20230710T193217Z
SUMMARY:Work Session 5:30 PM
URL;VALUE=URI:https://www.decaturproud.org/boe/calendar/4485346/work-sessio
 n-5-30-pm
DTSTART:20230713T213000Z
DTEND:20230713T233000Z
END:VEVENT
END:VCALENDAR
