BEGIN:VCALENDAR
VERSION:2.0
PRODID:SchoolNow
CALSCALE:GREGORIAN
BEGIN:VEVENT
UID:9623d716-91c8-11ed-ba2d-02ffc77e0b23
DTSTAMP:20240110T161719Z
SUMMARY:Reorganization and Regular Meeting 7:00 PM/Executive Session 5:30 P
 M
URL;VALUE=URI:https://www.decaturproud.org/boe/calendar/3663572/regular-mee
 ting-7-00-pm
DTSTART:20240110T000000Z
DTEND:20240110T010000Z
END:VEVENT
END:VCALENDAR
