BEGIN:VCALENDAR
VERSION:2.0
PRODID:SchoolNow
CALSCALE:GREGORIAN
BEGIN:VEVENT
UID:80461472-91c8-11ed-8475-02ffc77e0b23
DTSTAMP:20231208T154023Z
SUMMARY:Regular Meeting 7:00 PM/Executive Session 5:30 PM
URL;VALUE=URI:https://www.decaturproud.org/boe/calendar/3663571/regular-mee
 ting-7-00-pm
DTSTART:20231213T000000Z
DTEND:20231213T010000Z
END:VEVENT
END:VCALENDAR
