BEGIN:VCALENDAR
VERSION:2.0
PRODID:SchoolNow
CALSCALE:GREGORIAN
BEGIN:VEVENT
UID:66938a1e-91c8-11ed-a7ae-02ffc77e0b23
DTSTAMP:20231110T164434Z
SUMMARY:Regular Meeting 7:00 PM/Executive Session 5:30 PM
URL;VALUE=URI:https://www.decaturproud.org/boe/calendar/3663570/regular-mee
 ting-7-00-pm
DTSTART:20231115T000000Z
DTEND:20231115T010000Z
END:VEVENT
END:VCALENDAR
