BEGIN:VCALENDAR
VERSION:2.0
PRODID:SchoolNow
CALSCALE:GREGORIAN
BEGIN:VEVENT
UID:4cbbb9b8-91c8-11ed-b2ca-02ffc77e0b23
DTSTAMP:20230929T165255Z
SUMMARY:Regular Meeting 7:00 PM/Executive Session 5:30 PM/Executive Session
  8:00 PM
URL;VALUE=URI:https://www.decaturproud.org/boe/calendar/3663569/regular-mee
 ting-7-00-pm
DTSTART:20231003T230000Z
DTEND:20231004T000000Z
END:VEVENT
END:VCALENDAR
