BEGIN:VCALENDAR
VERSION:2.0
PRODID:SchoolNow
CALSCALE:GREGORIAN
BEGIN:VEVENT
UID:2bbb9efe-91c8-11ed-a1ae-02ffc77e0b23
DTSTAMP:20230901T151222Z
SUMMARY:Regular Meeting 7:00 PM/Executive Session 5:30 PM
URL;VALUE=URI:https://www.decaturproud.org/boe/calendar/3663568/regular-mee
 ting-7-00-pm
DTSTART:20230905T230000Z
DTEND:20230906T000000Z
END:VEVENT
END:VCALENDAR
