BEGIN:VCALENDAR
VERSION:2.0
PRODID:SchoolNow
CALSCALE:GREGORIAN
BEGIN:VEVENT
UID:117d9de4-91c8-11ed-9764-02ffc77e0b23
DTSTAMP:20230804T145137Z
SUMMARY:Regular Meeting 7:00 PM/Executive Session 5:30 PM
URL;VALUE=URI:https://www.decaturproud.org/boe/calendar/3663567/regular-mee
 ting-7-00-pm
DTSTART:20230808T230000Z
DTEND:20230809T000000Z
END:VEVENT
END:VCALENDAR
