BEGIN:VCALENDAR
VERSION:2.0
PRODID:SchoolNow
CALSCALE:GREGORIAN
BEGIN:VEVENT
UID:f7c501d0-91c7-11ed-83ad-02ffc77e0b23
DTSTAMP:20230707T140632Z
SUMMARY:Regular Meeting 7:00 PM/Executive Session 5:30 PM
URL;VALUE=URI:https://www.decaturproud.org/boe/calendar/3663566/regular-mee
 ting-7-00-pm
DTSTART:20230711T230000Z
DTEND:20230712T000000Z
END:VEVENT
END:VCALENDAR
