BEGIN:VCALENDAR
VERSION:2.0
PRODID:SchoolNow
CALSCALE:GREGORIAN
BEGIN:VEVENT
UID:39a66f32-91c1-11ed-b8f4-0e4b3e18c365
DTSTAMP:20230505T135424Z
SUMMARY:Regular Meeting 7:00 PM/Executive Session 5:00 PM
URL;VALUE=URI:https://www.decaturproud.org/boe/calendar/3663546/regular-mee
 ting-7-00-pm
DTSTART:20230509T230000Z
DTEND:20230510T000000Z
END:VEVENT
END:VCALENDAR
