BEGIN:VCALENDAR
VERSION:2.0
PRODID:SchoolNow
CALSCALE:GREGORIAN
BEGIN:VEVENT
UID:294d3c10-91c1-11ed-877e-0e4b3e18c365
DTSTAMP:20230407T143517Z
SUMMARY:Regular Meeting 7:00 PM/Executive Session 5:30 PM
URL;VALUE=URI:https://www.decaturproud.org/boe/calendar/3663545/regular-mee
 ting-7-00-pm
DTSTART:20230411T230000Z
DTEND:20230412T000000Z
END:VEVENT
END:VCALENDAR
