BEGIN:VCALENDAR
VERSION:2.0
PRODID:SchoolNow
CALSCALE:GREGORIAN
BEGIN:VEVENT
UID:153eddc8-91c1-11ed-b929-0e4b3e18c365
DTSTAMP:20230602T155429Z
SUMMARY:Regular Meeting 7:00 PM
URL;VALUE=URI:https://www.decaturproud.org/boe/calendar/3663544/regular-mee
 ting-7-00-pm
DTSTART:20230605T230000Z
DTEND:20230606T000000Z
END:VEVENT
END:VCALENDAR
